BEGIN:VCALENDAR
VERSION:2.0
PRODID:-//Tukios.com/
BEGIN:VEVENT
UID:9bfadde7-cc17-4220-b4fe-66da625915ac@www.knightfuneralhomes.com
DTSTAMP:20260421T202029Z
DTSTART:20260502T173000Z
DTEND:20260502T203000Z
SUMMARY:Celebration of Life
DESCRIPTION:
URL:https://www.knightfuneralhomes.com/obituaries/richard-miller
LOCATION: 39 South Main Street  Hartford VT 05001
GEO:43.648022;-72.3189536
END:VEVENT
END:VCALENDAR