BEGIN:VCALENDAR
VERSION:2.0
PRODID:-//Tukios.com/
BEGIN:VEVENT
UID:c581e68f-c66b-42a3-83d9-82610e22511b@www.knightfuneralhomes.com
DTSTAMP:20260424T175621Z
DTSTART:20260501T150000Z
DTEND:20260501T160000Z
SUMMARY:Graveside Service
DESCRIPTION:
URL:https://www.knightfuneralhomes.com/obituaries/nancy-husband
LOCATION: Enright Avenue  Windsor VT 05089
GEO:43.4735021;-72.4020917
END:VEVENT
END:VCALENDAR