BEGIN:VCALENDAR
VERSION:2.0
PRODID:-//Tukios.com/
BEGIN:VEVENT
UID:7d181144-1605-4756-b60d-61b911877ae5@www.knightfuneralhomes.com
DTSTAMP:20260424T175457Z
DTSTART:20260430T150000Z
DTEND:20260430T160000Z
SUMMARY:Mass
DESCRIPTION:
URL:https://www.knightfuneralhomes.com/obituaries/nancy-husband
LOCATION: 30 Union Street  Windsor VT 05089
GEO:43.4769466;-72.3909642
END:VEVENT
END:VCALENDAR