BEGIN:VCALENDAR
VERSION:2.0
PRODID:-//Tukios.com/
BEGIN:VEVENT
UID:b125a43e-bc84-4846-b6c2-d1d2413abb4a@www.knightfuneralhomes.com
DTSTAMP:20260424T175427Z
DTSTART:20260429T200000Z
DTEND:20260429T220000Z
SUMMARY:Visitation
DESCRIPTION:
URL:https://www.knightfuneralhomes.com/obituaries/nancy-husband
LOCATION: 65 Ascutney St  Windsor VT 05089
GEO:43.4763883;-72.3972873
END:VEVENT
END:VCALENDAR